BEGIN:VCALENDAR
VERSION:2.0
PRODID:-//Gennaro Amalfi Trekking - ECPv6.15.18//NONSGML v1.0//EN
CALSCALE:GREGORIAN
METHOD:PUBLISH
X-WR-CALNAME:Gennaro Amalfi Trekking
X-ORIGINAL-URL:https://gennaroamalfitrekking.it
X-WR-CALDESC:Eventi per Gennaro Amalfi Trekking
REFRESH-INTERVAL;VALUE=DURATION:PT1H
X-Robots-Tag:noindex
X-PUBLISHED-TTL:PT1H
BEGIN:VTIMEZONE
TZID:Europe/Rome
BEGIN:DAYLIGHT
TZOFFSETFROM:+0100
TZOFFSETTO:+0200
TZNAME:CEST
DTSTART:20220327T010000
END:DAYLIGHT
BEGIN:STANDARD
TZOFFSETFROM:+0200
TZOFFSETTO:+0100
TZNAME:CET
DTSTART:20221030T010000
END:STANDARD
BEGIN:DAYLIGHT
TZOFFSETFROM:+0100
TZOFFSETTO:+0200
TZNAME:CEST
DTSTART:20230326T010000
END:DAYLIGHT
BEGIN:STANDARD
TZOFFSETFROM:+0200
TZOFFSETTO:+0100
TZNAME:CET
DTSTART:20231029T010000
END:STANDARD
BEGIN:DAYLIGHT
TZOFFSETFROM:+0100
TZOFFSETTO:+0200
TZNAME:CEST
DTSTART:20240331T010000
END:DAYLIGHT
BEGIN:STANDARD
TZOFFSETFROM:+0200
TZOFFSETTO:+0100
TZNAME:CET
DTSTART:20241027T010000
END:STANDARD
END:VTIMEZONE
BEGIN:VEVENT
DTSTART;TZID=Europe/Rome:20230421T090000
DTEND;TZID=Europe/Rome:20230421T140000
DTSTAMP:20260423T104359
CREATED:20230414T103743Z
LAST-MODIFIED:20230414T103743Z
UID:2092-1682067600-1682085600@gennaroamalfitrekking.it
SUMMARY:Sentiero degli Dei e Positano
DESCRIPTION:Il Sentiero degli Dei è un trek di media difficoltà\, lungo circa 8 Km\, che consente di raggiungere a piedi Positano Centro partendo da Bomerano di Agerola in circa 5h.\nSi tratta di un trek che richiede un ottimo allenamento\, adatto solo a persone abituate a camminare in montagna\, che siano munite di scarpe da trekking ed abbigliamento idoneo.\nNecessari anche un cappello ed almeno un litro d’acqua a testa in quanto il percorso si sviluppa totalmente al sole ed è privo di luoghi di riparo.\nL’appuntamento è alle 9:00 a Bomerano di Agerola\, in Piazza Paolo Capasso\, nei pressi della fontana pubblica.\nGli ospiti potranno raggiungere Bomerano prendendo il bus della Sita Sud Trasporti in partenza alle 8:05 da Amalfi oppure con il transfer condiviso messo a disposizione dall’organizzatore\, con partenza da Salerno\, Amalfi e località intermedie.\nIl transfer va prenotato preventivamente ed ha un costo di € 10-16 a seconda del luogo di partenza.\nIl trek prevede una sosta dal Pastore degli Dei.\nDa Nocelle\, quelli stanchi potranno raggiungere in bus il centro di Positano evitando così la ripida scalinata finale di 1700 gradini.\nDa Positano ciascuno farà rientro all’ara e nel modo che preferirà.\nSi consiglia di utilizzare i traghetti della Travelmar.
URL:https://gennaroamalfitrekking.it/evento/sentiero-degli-dei-e-positano-4/
LOCATION:Agerola Bomerano\, Piazza Paolo Capasso\, Agerola\, Italia
CATEGORIES:Sentiero degli Dei fino a Positano
ATTACH;FMTTYPE=image/jpeg:https://gennaroamalfitrekking.it/wp-content/uploads/2022/08/IMG_0924.jpg
ORGANIZER;CN="Unique Experience":MAILTO:info@gennaroamalfitrekking.it
END:VEVENT
END:VCALENDAR